BEGIN:VCALENDAR
VERSION:2.0
PRODID:-//hacksw/handcal//NONSGML v1.0//EN
BEGIN:VEVENT
DTSTART:20260506T160000
DTEND:20260506T180000
LOCATION:Amphithéâtre Paul Janet  \n10 avenue Pierre Larousse \n94240 Malakoff
ORGANIZER;CN=Laureen Thuny - Droit, économie, gestion:MAILTO:laureen.thuny@u-pariscite.fr
SUMMARY:CONFÉRENCE EXCEPTIONNELLE - Marc Trévidic
DESCRIPTION:Chers Alumni,Dans le cadre des 50 ans de la Faculté de droit, d’économie et de gestion, nous avons le plaisir de vous inviter à une conférence exceptionnelle qui se tiendra le mercredi 6 mai 2026 à...
URL:https://www.alumni-u-pariscite.fr/fr/group/droit-economie-gestion/58/calendar/conference-exceptionnelle-marc-trevidic/2026/05/06/172
BEGIN:VALARM
TRIGGER:-P0DT1H0M0S
ACTION:DISPLAY
END:VALARM
END:VEVENT
END:VCALENDAR