BEGIN:VCALENDAR
VERSION:2.0
PRODID:-//hacksw/handcal//NONSGML v1.0//EN
BEGIN:VEVENT
DTSTART:20220518T100000
DTEND:20220518T113000
LOCATION:
ORGANIZER;CN=Alexandre Giusti:MAILTO:alumni@u-paris.fr
SUMMARY:[ATELIER] Exploiter les réseaux sociaux professionnels
DESCRIPTION:Un atelier pour apprendre et comprendre le fonctionnement des réseaux sociaux professionnels (RSP)Animé par un professionnel du POP, cet atelier est l’occasion de retirer les bénéfices de leur...
URL:https://www.alumni-u-pariscite.fr/fr/event/-atelier-exploiter-les-reseaux-sociaux-professionnels/2022/05/18/92
BEGIN:VALARM
TRIGGER:-P0DT1H0M0S
ACTION:DISPLAY
END:VALARM
END:VEVENT
END:VCALENDAR