BEGIN:VCALENDAR
VERSION:2.0
PRODID:-//hacksw/handcal//NONSGML v1.0//EN
BEGIN:VEVENT
DTSTART:20220613T170000
DTEND:20220613T183000
LOCATION:Amphithéâtre Buffon - \n15 rue Hélène Brion \n75013 Paris
ORGANIZER;CN=Alexandre Giusti:MAILTO:alumni@u-paris.fr
SUMMARY:#LGD hors-série – Démocratie et jeunesse : rupture ou renouveau ?
DESCRIPTION:                                                                     Le 13 juin prochain, au lendemain du premier tour des élections législatives, les Grands Débats d’Université Paris Cité...
URL:https://www.alumni-u-pariscite.fr/fr/event/-lgd-hors-serie-democratie-et-jeunesse-rupture-ou-renouveau/2022/06/13/94
BEGIN:VALARM
TRIGGER:-P0DT1H0M0S
ACTION:DISPLAY
END:VALARM
END:VEVENT
END:VCALENDAR