BEGIN:VCALENDAR
VERSION:2.0
PRODID:-//hacksw/handcal//NONSGML v1.0//EN
BEGIN:VEVENT
DTSTART:20221114T120000
DTEND:20221114T120500
LOCATION:Université Paris Cité - Site Necker \n160 rue de Vaugirard \n75015 Paris
ORGANIZER;CN=Alexandre Giusti:MAILTO:alumni@u-paris.fr
SUMMARY:#LGD Novembre : L’agriculture durable : une utopie ?
DESCRIPTION:Les Grands Débats sont de retour ! La deuxième saison consacrée à l’alimentation s'intitule « Le Monde est food ». Sous la houlette de Guillaume Monnain, animateur scientifique, nos invités débattront...
URL:https://www.alumni-u-pariscite.fr/fr/event/-lgd-novembre-l-agriculture-durable-une-utopie/2022/11/14/98
BEGIN:VALARM
TRIGGER:-P0DT1H0M0S
ACTION:DISPLAY
END:VALARM
END:VEVENT
END:VCALENDAR